BEGIN:VCALENDAR
VERSION:2.0
PRODID:-//ChamberMaster//Event Calendar 2.0//EN
METHOD:PUBLISH
X-PUBLISHED-TTL:P1H
REFRESH-INTERVAL:P1H
CALSCALE:GREGORIAN
BEGIN:VTIMEZONE
TZID:America/Denver
BEGIN:DAYLIGHT
RRULE:FREQ=YEARLY;BYMONTH=3;BYDAY=2SU
DTSTART:20070101T000000
TZOFFSETFROM:-0700
TZOFFSETTO:-0600
TZNAME:Mountain Daylight Time
END:DAYLIGHT
BEGIN:STANDARD
RRULE:FREQ=YEARLY;BYMONTH=11;BYDAY=1SU
DTSTART:20070101T000000
TZOFFSETFROM:-0600
TZOFFSETTO:-0700
TZNAME:Mountain Standard Time
END:STANDARD
END:VTIMEZONE
BEGIN:VEVENT
DTSTART;TZID=America/Denver:20260409T173000
DTEND;TZID=America/Denver:20260409T190000
X-MICROSOFT-CDO-ALLDAYEVENT:FALSE
SUMMARY:2026 Art on the Streets VIP Preview
DESCRIPTION:Be the first to preview the artwork selected for the 2026-2027 Art on the Streets exhibition. Wine and light hors d'oeuvres served\, brief slide show preview at 6 p.m.\nPlease RSVP by noon\, April 3.
X-ALT-DESC;FMTTYPE=text/html:<!DOCTYPE html><html><head><title></title></head><body aria-disabled="false"><p>Be the first to preview the artwork selected for the 2026-2027 Art on the Streets exhibition. Wine and light hors d&#39\;oeuvres served\, brief slide show preview at 6 p.m.\nPlease RSVP by noon\, April 3. </p></body></html>
LOCATION:Auric Gallery\, 125 E Boulder St. Colorado Springs CO 80903
UID:e.650.1417889
SEQUENCE:3
DTSTAMP:20260422T190314Z
URL:https://downtownpartnership.growthzoneapp.com/events/Details/2026-art-on-the-streets-vip-preview-1676007?sourceTypeId=Hub
END:VEVENT
END:VCALENDAR
