BEGIN:VCALENDAR
VERSION:2.0
PRODID:-//ChamberMaster//Event Calendar 2.0//EN
METHOD:PUBLISH
X-PUBLISHED-TTL:P1H
REFRESH-INTERVAL:P1H
CALSCALE:GREGORIAN
BEGIN:VTIMEZONE
TZID:America/Denver
BEGIN:DAYLIGHT
RRULE:FREQ=YEARLY;BYMONTH=3;BYDAY=2SU
DTSTART:20070101T000000
TZOFFSETFROM:-0700
TZOFFSETTO:-0600
TZNAME:Mountain Daylight Time
END:DAYLIGHT
BEGIN:STANDARD
RRULE:FREQ=YEARLY;BYMONTH=11;BYDAY=1SU
DTSTART:20070101T000000
TZOFFSETFROM:-0600
TZOFFSETTO:-0700
TZNAME:Mountain Standard Time
END:STANDARD
END:VTIMEZONE
BEGIN:VEVENT
DTSTART;TZID=America/Denver:20260606T100000
DTEND;TZID=America/Denver:20260606T110000
X-MICROSOFT-CDO-ALLDAYEVENT:FALSE
SUMMARY:2026 Walking Tour: Art on the Streets 2026 (June 6)
DESCRIPTION:The annual Art on the Streets program transforms Downtown streets into an outdoor gallery. Explore the currently installed artworks and get firsthand insight into the artists who created them. NOTE: This public art exhibition changes each June. $15 admission per person\, which includes a free beverage. Tickets are non-refundable. Given 24 hours' cancellation notice\, tickets may be transferred to a later tour date. One Saturday per month\, March through October Advance registration is required. Tour start locations vary\; see website for details. Schedule a private tourPrivate tours on a variety of topics are available for groups of 10 or more perfect for corporate teams\, walking groups\, social groups or friends day out. Call 719-886-0088 or email info@DowntownCS.com to schedule.
X-ALT-DESC;FMTTYPE=text/html:<!DOCTYPE html><html><head><title></title></head><body aria-disabled="false"><p>The annual Art on the Streets program transforms Downtown streets into an outdoor gallery. Explore the currently installed artworks and get firsthand insight into the artists who created them. <em>NOTE: This public art exhibition changes each June. </em></p><ul fr-original-style="" style="list-style-position: inside\;"><li>$15 admission per person\, which includes a free beverage.&nbsp\;</li><li>Tickets are non-refundable.&nbsp\;</li><li>Given 24 hours&#39\; cancellation notice\, tickets may be transferred to a later tour date.&nbsp\;</li><li>One Saturday per month\, March through October Advance registration is required.&nbsp\;</li><li>Tour start locations vary\; see website for details.&nbsp\;</li></ul><p><strong fr-original-style="" style="font-weight: 700\;">Schedule a private tour</strong></p><p>Private tours on a variety of topics are available for groups of 10 or more&mdash\;perfect for corporate teams\, walking groups\, social groups or friends day out. Call 719-886-0088 or email <a fr-original-style="" href="mailto:info@DowntownCS.com" style="user-select: auto\;">info@DowntownCS.com</a> to schedule.</p></body></html>
LOCATION:120 E Bijou St Colorado Springs CO 80903
UID:e.650.1427074
SEQUENCE:3
DTSTAMP:20260422T190336Z
URL:https://downtownpartnership.growthzoneapp.com/events/Details/2026-walking-tour-art-on-the-streets-2026-june-6-1687805?sourceTypeId=Hub
END:VEVENT
END:VCALENDAR
