BEGIN:VCALENDAR
VERSION:2.0
PRODID:-//ChamberMaster//Event Calendar 2.0//EN
METHOD:PUBLISH
X-PUBLISHED-TTL:P1H
REFRESH-INTERVAL:P1H
CALSCALE:GREGORIAN
BEGIN:VTIMEZONE
TZID:America/Denver
BEGIN:DAYLIGHT
RRULE:FREQ=YEARLY;BYMONTH=3;BYDAY=2SU
DTSTART:20070101T000000
TZOFFSETFROM:-0700
TZOFFSETTO:-0600
TZNAME:Mountain Daylight Time
END:DAYLIGHT
BEGIN:STANDARD
RRULE:FREQ=YEARLY;BYMONTH=11;BYDAY=1SU
DTSTART:20070101T000000
TZOFFSETFROM:-0600
TZOFFSETTO:-0700
TZNAME:Mountain Standard Time
END:STANDARD
END:VTIMEZONE
BEGIN:VEVENT
DTSTART;TZID=America/Denver:20260711T100000
DTEND;TZID=America/Denver:20260711T110000
X-MICROSOFT-CDO-ALLDAYEVENT:FALSE
SUMMARY:2026 Walking Tour: Law & Disorder (July 11)
DESCRIPTION:Facilitated by Colorado Springs Pioneers Museum guides\, Law & Disorder explores how Colo rado Springs officials fought to remain a dry town in wet times\; the captivating story of how law enforcement\, citizens and the Gazette newspaper worked to run the KKK out of town in the 1920s\; and an infamous gun battle with train robbers in the streets of Downtown. This tour is presented in partnership with The Mining Exchange Hotel. At the conclusion of the tour\, guests are invited to enjoy complimentary signature cocktail at the hotel's Golden Hour Bar. $15 admission per person\, which includes a free beverage. Tickets are non-refundable. Given 24 hours' cancellation notice\, tickets may be transferred to a later tour date. Advance registration is required.One Saturday per month\, March through OctoberTour start locations vary\; see website for details. Schedule a private tourPrivate tours on a variety of topics are available for groups of 10 or more perfect for corporate teams\, walking groups\, social groups or friends day out. Call 719-886-0088 or email info@DowntownCS.com to schedule.
X-ALT-DESC;FMTTYPE=text/html:<!DOCTYPE html><html><head><title></title></head><body aria-disabled="false"><p>Facilitated by Colorado Springs Pioneers Museum guides\, Law &amp\; Disorder explores how Colo&shy\;rado Springs officials fought to remain a dry town in wet times\; the captivating story of how law enforcement\, citizens and the Gazette newspaper worked to run the KKK out of town in the 1920s\; and an infamous gun battle with train robbers in the streets of Downtown.<em>&nbsp\;</em></p><p>This tour is presented in partnership with The Mining Exchange Hotel. At the conclusion of the tour\, guests are invited to enjoy complimentary signature cocktail at the hotel&rsquo\;s Golden Hour Bar. </p><ul fr-original-style="" style="list-style-position: inside\;"><li>$15 admission per person\, which includes a free beverage.&nbsp\;</li><li>Tickets are non-refundable.&nbsp\;<ul fr-original-style="" style="list-style-position: inside\;"><li>Given 24 hours&#39\; cancellation notice\, tickets may be transferred to a later tour date.&nbsp\;</li></ul></li><li>Advance registration is required.</li><li>One Saturday per month\, March through October</li><li>Tour start locations vary\; see website for details.&nbsp\;</li></ul><p><strong fr-original-style="" style="font-weight: 700\;">Schedule a private tour</strong></p><p>Private tours on a variety of topics are available for groups of 10 or more&mdash\;perfect for corporate teams\, walking groups\, social groups or friends day out. Call 719-886-0088 or email <a fr-original-style="" href="mailto:info@DowntownCS.com" style="user-select: auto\;">info@DowntownCS.com</a> to schedule.</p></body></html>
LOCATION:215 S. Tejon St. Colorado Springs CO 80903
UID:e.650.1428252
SEQUENCE:3
DTSTAMP:20260422T190314Z
URL:https://downtownpartnership.growthzoneapp.com/events/Details/2026-walking-tour-law-disorder-july-11-1689628?sourceTypeId=Hub
END:VEVENT
END:VCALENDAR
