BEGIN:VCALENDAR
VERSION:2.0
PRODID:-//ChamberMaster//Event Calendar 2.0//EN
METHOD:PUBLISH
X-PUBLISHED-TTL:P1H
REFRESH-INTERVAL:P1H
CALSCALE:GREGORIAN
BEGIN:VTIMEZONE
TZID:America/Denver
BEGIN:DAYLIGHT
RRULE:FREQ=YEARLY;BYMONTH=3;BYDAY=2SU
DTSTART:20070101T000000
TZOFFSETFROM:-0700
TZOFFSETTO:-0600
TZNAME:Mountain Daylight Time
END:DAYLIGHT
BEGIN:STANDARD
RRULE:FREQ=YEARLY;BYMONTH=11;BYDAY=1SU
DTSTART:20070101T000000
TZOFFSETFROM:-0600
TZOFFSETTO:-0700
TZNAME:Mountain Standard Time
END:STANDARD
END:VTIMEZONE
BEGIN:VEVENT
DTSTART;TZID=America/Denver:20260416T090000
DTEND;TZID=America/Denver:20260416T100000
X-MICROSOFT-CDO-ALLDAYEVENT:FALSE
SUMMARY:April Mini Member Mixer - Dream Centers' Mary's Home
DESCRIPTION:We can't wait to see you at our April Mini Member Mixer\, hosted by Dream Centers' Mary's Home! We're looking forward to great conversation and strengthening relationships across the community over coffee\, juice and breakfast pastries.  Parking:Street parking available along Michigan AveGuests may park in front of the FLC\, Office\, and FourplexPlease avoid parking in front of or inside the white gated parking lotContact:(719) 886-0088sarah@downtowncs.com
X-ALT-DESC;FMTTYPE=text/html:<!DOCTYPE html><html><head><title></title></head><body aria-disabled="false"><p>We can&#39\;t wait to see you at our April Mini Member Mixer\, hosted by Dream Centers&#39\; Mary&#39\;s Home! We&rsquo\;re looking forward to great conversation and strengthening relationships across the community over coffee\, juice and breakfast pastries. &nbsp\;</p><p><strong fr-original-style="" style="font-weight: 700\;">Parking:</strong></p><ul fr-original-style="" style="list-style-position: inside\;"><li>Street parking available along Michigan Ave</li><li>Guests may park in front of the FLC\, Office\, and Fourplex</li><li>Please avoid parking in front of or inside the white gated parking lot</li></ul><p><strong fr-original-style="" style="font-weight: 700\;">Contact:</strong></p><ul fr-original-style="" style="list-style-position: inside\;"><li>(719) 886-0088</li><li><a fr-original-style="" href="mailto:sarah@downtowncs.com" style="user-select: auto\;">sarah@downtowncs.com</a></li></ul></body></html>
LOCATION:Mary's Home\, 3653 Michigan Ave. Colorado Springs CO 80910
UID:e.650.1418551
SEQUENCE:3
DTSTAMP:20260422T190330Z
URL:https://downtownpartnership.growthzoneapp.com/events/Details/april-mini-member-mixer-dream-centers-mary-s-home-1676727?sourceTypeId=Hub
END:VEVENT
END:VCALENDAR
