BEGIN:VCALENDAR
VERSION:2.0
PRODID:-//ChamberMaster//Event Calendar 2.0//EN
METHOD:PUBLISH
X-PUBLISHED-TTL:P1H
REFRESH-INTERVAL:P1H
CALSCALE:GREGORIAN
BEGIN:VTIMEZONE
TZID:America/Denver
BEGIN:DAYLIGHT
RRULE:FREQ=YEARLY;BYMONTH=3;BYDAY=2SU
DTSTART:20070101T000000
TZOFFSETFROM:-0700
TZOFFSETTO:-0600
TZNAME:Mountain Daylight Time
END:DAYLIGHT
BEGIN:STANDARD
RRULE:FREQ=YEARLY;BYMONTH=11;BYDAY=1SU
DTSTART:20070101T000000
TZOFFSETFROM:-0600
TZOFFSETTO:-0700
TZNAME:Mountain Standard Time
END:STANDARD
END:VTIMEZONE
BEGIN:VEVENT
DTSTART;TZID=America/Denver:20260526T163000
DTEND;TZID=America/Denver:20260526T173000
X-MICROSOFT-CDO-ALLDAYEVENT:FALSE
SUMMARY:May Mini Member Mixer - Novis Mortem Collective
DESCRIPTION:** Canceled **We're excited to host our May Mini Mixer at the Novis Mortem! They'll share a brief overview of their work\, why they value being part of the membership network\, and how they hope to connect with and support Downtown businesses. We're looking forward to great conversation and strengthening relationships across the community over beer\, N/A beverages and light snacks. Capacity is limited to 40 register early!
X-ALT-DESC;FMTTYPE=text/html:<!DOCTYPE html><html><head><title></title></head><body aria-disabled="false"><p>** Canceled **</p><p>We&rsquo\;re excited to host our May Mini Mixer at the Novis Mortem! They&rsquo\;ll share a brief overview of their work\, why they value being part of the membership network\, and how they hope to connect with and support Downtown businesses. We&rsquo\;re looking forward to great conversation and strengthening relationships across the community over beer\, N/A beverages and light snacks.&nbsp\;</p><p><strong fr-original-style="" style="font-weight: 700\;">Capacity is limited to 40&mdash\;register early!</strong></p></body></html>
LOCATION:Novis Mortem Collective\, 22 E Bijou St. Colorado Springs CO 80903
UID:e.650.1418574
SEQUENCE:3
DTSTAMP:20260422T190314Z
URL:https://downtownpartnership.growthzoneapp.com/events/Details/may-mini-member-mixer-novis-mortem-collective-1676750?sourceTypeId=Hub
END:VEVENT
END:VCALENDAR
